Workbook

Sheet Master rotation
A1: The DuPont Schedule: Master 28-Day Rotation
B2: Week 1 | I2: Week 2 | P2: Week 3 | W2: Week 4
B3: 1 | C3: 2 | D3: 3 | E3: 4 | F3: 5 | G3: 6 | H3: 7 | I3: 8 | J3: 9 | K3: 10 | L3: 11 | M3: 12 | N3: 13 | O3: 14 | P3: 15 | Q3: 16 | R3: 17 | S3: 18 | T3: 19 | U3: 20 | V3: 21 | W3: 22 | X3: 23 | Y3: 24 | Z3: 25 | AA3: 26 | AB3: 27 | AC3: 28
A4: Crew A | B4: N | C4: N | D4: N | E4: N | I4: D | J4: D | K4: D | M4: N | N4: N | O4: N | S4: D | T4: D | U4: D | V4: D
A5: Crew B | B5: D | C5: D | D5: D | F5: N | G5: N | H5: N | L5: D | M5: D | N5: D | O5: D | W5: N | X5: N | Y5: N | Z5: N
A6: Crew C | E6: D | F6: D | G6: D | H6: D | P6: N | Q6: N | R6: N | S6: N | W6: D | X6: D | Y6: D | AA6: N | AB6: N | AC6: N
A7: Crew D | I7: N | J7: N | K7: N | L7: N | P7: D | Q7: D | R7: D | T7: N | U7: N | V7: N | Z7: D | AA7: D | AB7: D | AC7: D
A9: Day cover | B9: =COUNTIF(B4:B7,"D") -> 1 | C9: =COUNTIF(C4:C7,"D") -> 1 | D9: =COUNTIF(D4:D7,"D") -> 1 | E9: =COUNTIF(E4:E7,"D") -> 1 | F9: =COUNTIF(F4:F7,"D") -> 1 | G9: =COUNTIF(G4:G7,"D") -> 1 | H9: =COUNTIF(H4:H7,"D") -> 1 | I9: =COUNTIF(I4:I7,"D") -> 1 | ... AC9: =COUNTIF(AC4:AC7,"D") -> 1 | AD9: crews on day shift that day (must be 1)
A10: Night cover | B10: =COUNTIF(B4:B7,"N") -> 1 | C10: =COUNTIF(C4:C7,"N") -> 1 | D10: =COUNTIF(D4:D7,"N") -> 1 | E10: =COUNTIF(E4:E7,"N") -> 1 | F10: =COUNTIF(F4:F7,"N") -> 1 | G10: =COUNTIF(G4:G7,"N") -> 1 | H10: =COUNTIF(H4:H7,"N") -> 1 | I10: =COUNTIF(I4:I7,"N") -> 1 | ... AC10: =COUNTIF(AC4:AC7,"N") -> 1 | AD10: crews on night shift that day (must be 1)
A12: Legend | B12: D | C12: Day shift | H12: N | I12: Night shift | O12: Rest day | T12: Seven-day break
A14: Edit the cream cells (crew names) and the 28-day grid. The 2026 calendar tab updates automatically.
A15: Both cover rows must show 1 for every day. If an edit breaks cover, the cell turns pink.
A17: Liveforce · liveforce.co · The workforce management platform for event-led businesses

Sheet 2026 calendar
A1: DuPont Schedule Calendar
A2: Start date: | B2: =DATE(2026,1,5) -> 46027 | C2: Edit this cream cell. Any date, any year: all 364 days below re-date themselves.
A4: Date | B4: Day | C4: Cycle day | D4: ='Master rotation'!$A$4 -> Crew A | E4: ='Master rotation'!$A$5 -> Crew B | F4: ='Master rotation'!$A$6 -> Crew C | G4: ='Master rotation'!$A$7 -> Crew D
A5: =$B$2 -> 46027 | B5: =TEXT(A5,"ddd") -> Mon | C5: =MOD(A5-$B$2,28)+1 -> 1 | D5: =IF(INDEX('Master rotation'!$B$4:$AC$4,$C5)=0,"",INDEX('Master rotation'!$B$4:$AC$4,$C5)) -> N | E5: =IF(INDEX('Master rotation'!$B$5:$AC$5,$C5)=0,"",INDEX('Master rotation'!$B$5:$AC$5,$C5)) -> D | F5: =IF(INDEX('Master rotation'!$B$6:$AC$6,$C5)=0,"",INDEX('Master rotation'!$B$6:$AC$6,$C5)) | G5: =IF(INDEX('Master rotation'!$B$7:$AC$7,$C5)=0,"",INDEX('Master rotation'!$B$7:$AC$7,$C5))
A6: =A5+1 -> 46028 | B6: =TEXT(A6,"ddd") -> Tue | C6: =MOD(A6-$B$2,28)+1 -> 2 | D6: =IF(INDEX('Master rotation'!$B$4:$AC$4,$C6)=0,"",INDEX('Master rotation'!$B$4:$AC$4,$C6)) -> N | E6: =IF(INDEX('Master rotation'!$B$5:$AC$5,$C6)=0,"",INDEX('Master rotation'!$B$5:$AC$5,$C6)) -> D | F6: =IF(INDEX('Master rotation'!$B$6:$AC$6,$C6)=0,"",INDEX('Master rotation'!$B$6:$AC$6,$C6)) | G6: =IF(INDEX('Master rotation'!$B$7:$AC$7,$C6)=0,"",INDEX('Master rotation'!$B$7:$AC$7,$C6))
A7: =A6+1 -> 46029 | B7: =TEXT(A7,"ddd") -> Wed | C7: =MOD(A7-$B$2,28)+1 -> 3 | D7: =IF(INDEX('Master rotation'!$B$4:$AC$4,$C7)=0,"",INDEX('Master rotation'!$B$4:$AC$4,$C7)) -> N | E7: =IF(INDEX('Master rotation'!$B$5:$AC$5,$C7)=0,"",INDEX('Master rotation'!$B$5:$AC$5,$C7)) -> D | F7: =IF(INDEX('Master rotation'!$B$6:$AC$6,$C7)=0,"",INDEX('Master rotation'!$B$6:$AC$6,$C7)) | G7: =IF(INDEX('Master rotation'!$B$7:$AC$7,$C7)=0,"",INDEX('Master rotation'!$B$7:$AC$7,$C7))
A8: =A7+1 -> 46030 | B8: =TEXT(A8,"ddd") -> Thu | C8: =MOD(A8-$B$2,28)+1 -> 4 | D8: =IF(INDEX('Master rotation'!$B$4:$AC$4,$C8)=0,"",INDEX('Master rotation'!$B$4:$AC$4,$C8)) -> N | E8: =IF(INDEX('Master rotation'!$B$5:$AC$5,$C8)=0,"",INDEX('Master rotation'!$B$5:$AC$5,$C8)) | F8: =IF(INDEX('Master rotation'!$B$6:$AC$6,$C8)=0,"",INDEX('Master rotation'!$B$6:$AC$6,$C8)) -> D | G8: =IF(INDEX('Master rotation'!$B$7:$AC$7,$C8)=0,"",INDEX('Master rotation'!$B$7:$AC$7,$C8))
A9: =A8+1 -> 46031 | B9: =TEXT(A9,"ddd") -> Fri | C9: =MOD(A9-$B$2,28)+1 -> 5 | D9: =IF(INDEX('Master rotation'!$B$4:$AC$4,$C9)=0,"",INDEX('Master rotation'!$B$4:$AC$4,$C9)) | E9: =IF(INDEX('Master rotation'!$B$5:$AC$5,$C9)=0,"",INDEX('Master rotation'!$B$5:$AC$5,$C9)) -> N | F9: =IF(INDEX('Master rotation'!$B$6:$AC$6,$C9)=0,"",INDEX('Master rotation'!$B$6:$AC$6,$C9)) -> D | G9: =IF(INDEX('Master rotation'!$B$7:$AC$7,$C9)=0,"",INDEX('Master rotation'!$B$7:$AC$7,$C9))
A10: =A9+1 -> 46032 | B10: =TEXT(A10,"ddd") -> Sat | C10: =MOD(A10-$B$2,28)+1 -> 6 | D10: =IF(INDEX('Master rotation'!$B$4:$AC$4,$C10)=0,"",INDEX('Master rotation'!$B$4:$AC$4,$C10)) | E10: =IF(INDEX('Master rotation'!$B$5:$AC$5,$C10)=0,"",INDEX('Master rotation'!$B$5:$AC$5,$C10)) -> N | F10: =IF(INDEX('Master rotation'!$B$6:$AC$6,$C10)=0,"",INDEX('Master rotation'!$B$6:$AC$6,$C10)) -> D | G10: =IF(INDEX('Master rotation'!$B$7:$AC$7,$C10)=0,"",INDEX('Master rotation'!$B$7:$AC$7,$C10))
A11: =A10+1 -> 46033 | B11: =TEXT(A11,"ddd") -> Sun | C11: =MOD(A11-$B$2,28)+1 -> 7 | D11: =IF(INDEX('Master rotation'!$B$4:$AC$4,$C11)=0,"",INDEX('Master rotation'!$B$4:$AC$4,$C11)) | E11: =IF(INDEX('Master rotation'!$B$5:$AC$5,$C11)=0,"",INDEX('Master rotation'!$B$5:$AC$5,$C11)) -> N | F11: =IF(INDEX('Master rotation'!$B$6:$AC$6,$C11)=0,"",INDEX('Master rotation'!$B$6:$AC$6,$C11)) -> D | G11: =IF(INDEX('Master rotation'!$B$7:$AC$7,$C11)=0,"",INDEX('Master rotation'!$B$7:$AC$7,$C11))
A12: =A11+1 -> 46034 | B12: =TEXT(A12,"ddd") -> Mon | C12: =MOD(A12-$B$2,28)+1 -> 8 | D12: =IF(INDEX('Master rotation'!$B$4:$AC$4,$C12)=0,"",INDEX('Master rotation'!$B$4:$AC$4,$C12)) -> D | E12: =IF(INDEX('Master rotation'!$B$5:$AC$5,$C12)=0,"",INDEX('Master rotation'!$B$5:$AC$5,$C12)) | F12: =IF(INDEX('Master rotation'!$B$6:$AC$6,$C12)=0,"",INDEX('Master rotation'!$B$6:$AC$6,$C12)) | G12: =IF(INDEX('Master rotation'!$B$7:$AC$7,$C12)=0,"",INDEX('Master rotation'!$B$7:$AC$7,$C12)) -> N
A13: =A12+1 -> 46035 | B13: =TEXT(A13,"ddd") -> Tue | C13: =MOD(A13-$B$2,28)+1 -> 9 | D13: =IF(INDEX('Master rotation'!$B$4:$AC$4,$C13)=0,"",INDEX('Master rotation'!$B$4:$AC$4,$C13)) -> D | E13: =IF(INDEX('Master rotation'!$B$5:$AC$5,$C13)=0,"",INDEX('Master rotation'!$B$5:$AC$5,$C13)) | F13: =IF(INDEX('Master rotation'!$B$6:$AC$6,$C13)=0,"",INDEX('Master rotation'!$B$6:$AC$6,$C13)) | G13: =IF(INDEX('Master rotation'!$B$7:$AC$7,$C13)=0,"",INDEX('Master rotation'!$B$7:$AC$7,$C13)) -> N
A14: =A13+1 -> 46036 | B14: =TEXT(A14,"ddd") -> Wed | C14: =MOD(A14-$B$2,28)+1 -> 10 | D14: =IF(INDEX('Master rotation'!$B$4:$AC$4,$C14)=0,"",INDEX('Master rotation'!$B$4:$AC$4,$C14)) -> D | E14: =IF(INDEX('Master rotation'!$B$5:$AC$5,$C14)=0,"",INDEX('Master rotation'!$B$5:$AC$5,$C14)) | F14: =IF(INDEX('Master rotation'!$B$6:$AC$6,$C14)=0,"",INDEX('Master rotation'!$B$6:$AC$6,$C14)) | G14: =IF(INDEX('Master rotation'!$B$7:$AC$7,$C14)=0,"",INDEX('Master rotation'!$B$7:$AC$7,$C14)) -> N
A15: =A14+1 -> 46037 | B15: =TEXT(A15,"ddd") -> Thu | C15: =MOD(A15-$B$2,28)+1 -> 11 | D15: =IF(INDEX('Master rotation'!$B$4:$AC$4,$C15)=0,"",INDEX('Master rotation'!$B$4:$AC$4,$C15)) | E15: =IF(INDEX('Master rotation'!$B$5:$AC$5,$C15)=0,"",INDEX('Master rotation'!$B$5:$AC$5,$C15)) -> D | F15: =IF(INDEX('Master rotation'!$B$6:$AC$6,$C15)=0,"",INDEX('Master rotation'!$B$6:$AC$6,$C15)) | G15: =IF(INDEX('Master rotation'!$B$7:$AC$7,$C15)=0,"",INDEX('Master rotation'!$B$7:$AC$7,$C15)) -> N
A16: =A15+1 -> 46038 | B16: =TEXT(A16,"ddd") -> Fri | C16: =MOD(A16-$B$2,28)+1 -> 12 | D16: =IF(INDEX('Master rotation'!$B$4:$AC$4,$C16)=0,"",INDEX('Master rotation'!$B$4:$AC$4,$C16)) -> N | E16: =IF(INDEX('Master rotation'!$B$5:$AC$5,$C16)=0,"",INDEX('Master rotation'!$B$5:$AC$5,$C16)) -> D | F16: =IF(INDEX('Master rotation'!$B$6:$AC$6,$C16)=0,"",INDEX('Master rotation'!$B$6:$AC$6,$C16)) | G16: =IF(INDEX('Master rotation'!$B$7:$AC$7,$C16)=0,"",INDEX('Master rotation'!$B$7:$AC$7,$C16))
A17: =A16+1 -> 46039 | B17: =TEXT(A17,"ddd") -> Sat | C17: =MOD(A17-$B$2,28)+1 -> 13 | D17: =IF(INDEX('Master rotation'!$B$4:$AC$4,$C17)=0,"",INDEX('Master rotation'!$B$4:$AC$4,$C17)) -> N | E17: =IF(INDEX('Master rotation'!$B$5:$AC$5,$C17)=0,"",INDEX('Master rotation'!$B$5:$AC$5,$C17)) -> D | F17: =IF(INDEX('Master rotation'!$B$6:$AC$6,$C17)=0,"",INDEX('Master rotation'!$B$6:$AC$6,$C17)) | G17: =IF(INDEX('Master rotation'!$B$7:$AC$7,$C17)=0,"",INDEX('Master rotation'!$B$7:$AC$7,$C17))
... A368: =A367+1 -> 46390 | B368: =TEXT(A368,"ddd") -> Sun | C368: =MOD(A368-$B$2,28)+1 -> 28 | D368: =IF(INDEX('Master rotation'!$B$4:$AC$4,$C368)=0,"",INDEX('Master rotation'!$B$4:$AC$4,$C368)) | E368: =IF(INDEX('Master rotation'!$B$5:$AC$5,$C368)=0,"",INDEX('Master rotation'!$B$5:$AC$5,$C368)) | F368: =IF(INDEX('Master rotation'!$B$6:$AC$6,$C368)=0,"",INDEX('Master rotation'!$B$6:$AC$6,$C368)) -> N | G368: =IF(INDEX('Master rotation'!$B$7:$AC$7,$C368)=0,"",INDEX('Master rotation'!$B$7:$AC$7,$C368)) -> D

Sheet How to use
A1: How to Use This DuPont Schedule Template
A3: 1. | B3: Set your start date on the 2026 calendar tab (the cream cell). Any date, any year: all 364 days re-date themselves.
A4: 2. | B4: Rename the crews on the Master rotation tab (cream cells A4 to A7). The calendar headers update automatically.
A5: 3. | B5: To build a modified DuPont schedule, edit the D and N letters in the 28-day grid. Keep both cover rows at 1 for every day; a pink cell means cover is broken. If you move the seven-day break, recolour those pink break cells to match.
A6: 4. | B6: Share it safely: keep this file as the view-only master. In Google Sheets, send a link ending in /copy so every person gets their own editable copy.
A7: 5. | B7: Before go-live, check the pattern against your working-time rules (daily rest, night-work limits) and run a fatigue risk assessment. The full guide: liveforce.co/blog/dupont-schedule/
B9: Default values are a working example: crews A to D on the classic rotation, starting Monday 5 January 2026.
B11: Built by Liveforce · liveforce.co · Run every event. Without the chaos.
